BEGIN:VCALENDAR
VERSION:2.0
PRODID:-//From The 3rd Story Productions ltd. - ECPv6.15.13.1//NONSGML v1.0//EN
CALSCALE:GREGORIAN
METHOD:PUBLISH
X-ORIGINAL-URL:https://fromthe3rdstoryproductions.co.uk
X-WR-CALDESC:Events for From The 3rd Story Productions ltd.
REFRESH-INTERVAL;VALUE=DURATION:PT1H
X-Robots-Tag:noindex
X-PUBLISHED-TTL:PT1H
BEGIN:VTIMEZONE
TZID:Europe/London
BEGIN:DAYLIGHT
TZOFFSETFROM:+0000
TZOFFSETTO:+0100
TZNAME:BST
DTSTART:20170326T010000
END:DAYLIGHT
BEGIN:STANDARD
TZOFFSETFROM:+0100
TZOFFSETTO:+0000
TZNAME:GMT
DTSTART:20171029T010000
END:STANDARD
BEGIN:DAYLIGHT
TZOFFSETFROM:+0000
TZOFFSETTO:+0100
TZNAME:BST
DTSTART:20180325T010000
END:DAYLIGHT
BEGIN:STANDARD
TZOFFSETFROM:+0100
TZOFFSETTO:+0000
TZNAME:GMT
DTSTART:20181028T010000
END:STANDARD
BEGIN:DAYLIGHT
TZOFFSETFROM:+0000
TZOFFSETTO:+0100
TZNAME:BST
DTSTART:20190331T010000
END:DAYLIGHT
BEGIN:STANDARD
TZOFFSETFROM:+0100
TZOFFSETTO:+0000
TZNAME:GMT
DTSTART:20191027T010000
END:STANDARD
END:VTIMEZONE
BEGIN:VTIMEZONE
TZID:Asia/Tokyo
BEGIN:STANDARD
TZOFFSETFROM:+0900
TZOFFSETTO:+0900
TZNAME:JST
DTSTART:20170101T000000
END:STANDARD
END:VTIMEZONE
BEGIN:VTIMEZONE
TZID:Europe/Warsaw
BEGIN:DAYLIGHT
TZOFFSETFROM:+0100
TZOFFSETTO:+0200
TZNAME:CEST
DTSTART:20170326T010000
END:DAYLIGHT
BEGIN:STANDARD
TZOFFSETFROM:+0200
TZOFFSETTO:+0100
TZNAME:CET
DTSTART:20171029T010000
END:STANDARD
BEGIN:DAYLIGHT
TZOFFSETFROM:+0100
TZOFFSETTO:+0200
TZNAME:CEST
DTSTART:20180325T010000
END:DAYLIGHT
BEGIN:STANDARD
TZOFFSETFROM:+0200
TZOFFSETTO:+0100
TZNAME:CET
DTSTART:20181028T010000
END:STANDARD
BEGIN:DAYLIGHT
TZOFFSETFROM:+0100
TZOFFSETTO:+0200
TZNAME:CEST
DTSTART:20190331T010000
END:DAYLIGHT
BEGIN:STANDARD
TZOFFSETFROM:+0200
TZOFFSETTO:+0100
TZNAME:CET
DTSTART:20191027T010000
END:STANDARD
END:VTIMEZONE
BEGIN:VEVENT
DTSTART;TZID=Europe/London:20181009T080000
DTEND;TZID=Europe/London:20181014T170000
DTSTAMP:20260421T020603
CREATED:20171222T174340Z
LAST-MODIFIED:20180205T172932Z
UID:5244-1539072000-1539536400@fromthe3rdstoryproductions.co.uk
SUMMARY:Iris Prize
DESCRIPTION:LBGT \nBAFA Cymru \nBAFTA Section A \n\n\nShare this:TweetShare on TumblrMoreRedditWhatsAppLike this:Like Loading...
URL:https://fromthe3rdstoryproductions.co.uk/event/iris-prize
LOCATION:CA
CATEGORIES:Festival
END:VEVENT
BEGIN:VEVENT
DTSTART;VALUE=DATE:20181010
DTEND;VALUE=DATE:20181022
DTSTAMP:20260421T020603
CREATED:20180222T174743Z
LAST-MODIFIED:20180222T174743Z
UID:5745-1539129600-1540166399@fromthe3rdstoryproductions.co.uk
SUMMARY:BFI London Film Festival
DESCRIPTION:BAFTA qualifying “Section A” \n\nShare this:TweetShare on TumblrMoreRedditWhatsAppLike this:Like Loading...
URL:https://fromthe3rdstoryproductions.co.uk/event/bfi-london-film-festival
LOCATION:London\, London\, United Kingdom
CATEGORIES:Festival
END:VEVENT
BEGIN:VEVENT
DTSTART;TZID=Asia/Tokyo:20181011T080000
DTEND;TZID=Asia/Tokyo:20181014T170000
DTSTAMP:20260421T020603
CREATED:20180125T170040Z
LAST-MODIFIED:20180125T170040Z
UID:5535-1539244800-1539536400@fromthe3rdstoryproductions.co.uk
SUMMARY:Sapporo International Short Film Festival & Market
DESCRIPTION:Share this:TweetShare on TumblrMoreRedditWhatsAppLike this:Like Loading...
URL:https://fromthe3rdstoryproductions.co.uk/event/sapporo-international-short-film-festival-market
LOCATION:Tokyo\, Tokyo\, Japan
CATEGORIES:Festival
END:VEVENT
BEGIN:VEVENT
DTSTART;TZID=Europe/Warsaw:20181012T080000
DTEND;TZID=Europe/Warsaw:20181021T170000
DTSTAMP:20260421T020603
CREATED:20180208T091906Z
LAST-MODIFIED:20180208T091906Z
UID:5677-1539331200-1540141200@fromthe3rdstoryproductions.co.uk
SUMMARY:Warsaw International Film Festival
DESCRIPTION:Share this:TweetShare on TumblrMoreRedditWhatsAppLike this:Like Loading...
URL:https://fromthe3rdstoryproductions.co.uk/event/warsaw-international-film-festival
LOCATION:Warsaw\, Warsaw\, Poland
CATEGORIES:Festival
END:VEVENT
END:VCALENDAR