BEGIN:VCALENDAR
VERSION:2.0
PRODID:-//From The 3rd Story Productions ltd. - ECPv6.15.13.1//NONSGML v1.0//EN
CALSCALE:GREGORIAN
METHOD:PUBLISH
X-WR-CALNAME:From The 3rd Story Productions ltd.
X-ORIGINAL-URL:https://fromthe3rdstoryproductions.co.uk
X-WR-CALDESC:Events for From The 3rd Story Productions ltd.
REFRESH-INTERVAL;VALUE=DURATION:PT1H
X-Robots-Tag:noindex
X-PUBLISHED-TTL:PT1H
BEGIN:VTIMEZONE
TZID:Europe/Lisbon
BEGIN:DAYLIGHT
TZOFFSETFROM:+0000
TZOFFSETTO:+0100
TZNAME:WEST
DTSTART:20170326T010000
END:DAYLIGHT
BEGIN:STANDARD
TZOFFSETFROM:+0100
TZOFFSETTO:+0000
TZNAME:WET
DTSTART:20171029T010000
END:STANDARD
BEGIN:DAYLIGHT
TZOFFSETFROM:+0000
TZOFFSETTO:+0100
TZNAME:WEST
DTSTART:20180325T010000
END:DAYLIGHT
BEGIN:STANDARD
TZOFFSETFROM:+0100
TZOFFSETTO:+0000
TZNAME:WET
DTSTART:20181028T010000
END:STANDARD
BEGIN:DAYLIGHT
TZOFFSETFROM:+0000
TZOFFSETTO:+0100
TZNAME:WEST
DTSTART:20190331T010000
END:DAYLIGHT
BEGIN:STANDARD
TZOFFSETFROM:+0100
TZOFFSETTO:+0000
TZNAME:WET
DTSTART:20191027T010000
END:STANDARD
END:VTIMEZONE
BEGIN:VTIMEZONE
TZID:America/Argentina/Buenos_Aires
BEGIN:STANDARD
TZOFFSETFROM:-0300
TZOFFSETTO:-0300
TZNAME:-03
DTSTART:20170101T000000
END:STANDARD
END:VTIMEZONE
BEGIN:VTIMEZONE
TZID:Europe/Kiev
BEGIN:DAYLIGHT
TZOFFSETFROM:+0200
TZOFFSETTO:+0300
TZNAME:EEST
DTSTART:20170326T010000
END:DAYLIGHT
BEGIN:STANDARD
TZOFFSETFROM:+0300
TZOFFSETTO:+0200
TZNAME:EET
DTSTART:20171029T010000
END:STANDARD
BEGIN:DAYLIGHT
TZOFFSETFROM:+0200
TZOFFSETTO:+0300
TZNAME:EEST
DTSTART:20180325T010000
END:DAYLIGHT
BEGIN:STANDARD
TZOFFSETFROM:+0300
TZOFFSETTO:+0200
TZNAME:EET
DTSTART:20181028T010000
END:STANDARD
BEGIN:DAYLIGHT
TZOFFSETFROM:+0200
TZOFFSETTO:+0300
TZNAME:EEST
DTSTART:20190331T010000
END:DAYLIGHT
BEGIN:STANDARD
TZOFFSETFROM:+0300
TZOFFSETTO:+0200
TZNAME:EET
DTSTART:20191027T010000
END:STANDARD
END:VTIMEZONE
BEGIN:VTIMEZONE
TZID:Europe/Brussels
BEGIN:DAYLIGHT
TZOFFSETFROM:+0100
TZOFFSETTO:+0200
TZNAME:CEST
DTSTART:20170326T010000
END:DAYLIGHT
BEGIN:STANDARD
TZOFFSETFROM:+0200
TZOFFSETTO:+0100
TZNAME:CET
DTSTART:20171029T010000
END:STANDARD
BEGIN:DAYLIGHT
TZOFFSETFROM:+0100
TZOFFSETTO:+0200
TZNAME:CEST
DTSTART:20180325T010000
END:DAYLIGHT
BEGIN:STANDARD
TZOFFSETFROM:+0200
TZOFFSETTO:+0100
TZNAME:CET
DTSTART:20181028T010000
END:STANDARD
BEGIN:DAYLIGHT
TZOFFSETFROM:+0100
TZOFFSETTO:+0200
TZNAME:CEST
DTSTART:20190331T010000
END:DAYLIGHT
BEGIN:STANDARD
TZOFFSETFROM:+0200
TZOFFSETTO:+0100
TZNAME:CET
DTSTART:20191027T010000
END:STANDARD
END:VTIMEZONE
BEGIN:VTIMEZONE
TZID:Europe/London
BEGIN:DAYLIGHT
TZOFFSETFROM:+0000
TZOFFSETTO:+0100
TZNAME:BST
DTSTART:20170326T010000
END:DAYLIGHT
BEGIN:STANDARD
TZOFFSETFROM:+0100
TZOFFSETTO:+0000
TZNAME:GMT
DTSTART:20171029T010000
END:STANDARD
BEGIN:DAYLIGHT
TZOFFSETFROM:+0000
TZOFFSETTO:+0100
TZNAME:BST
DTSTART:20180325T010000
END:DAYLIGHT
BEGIN:STANDARD
TZOFFSETFROM:+0100
TZOFFSETTO:+0000
TZNAME:GMT
DTSTART:20181028T010000
END:STANDARD
BEGIN:DAYLIGHT
TZOFFSETFROM:+0000
TZOFFSETTO:+0100
TZNAME:BST
DTSTART:20190331T010000
END:DAYLIGHT
BEGIN:STANDARD
TZOFFSETFROM:+0100
TZOFFSETTO:+0000
TZNAME:GMT
DTSTART:20191027T010000
END:STANDARD
END:VTIMEZONE
BEGIN:VEVENT
DTSTART;VALUE=DATE:20180615
DTEND;VALUE=DATE:20180816
DTSTAMP:20260420T191446
CREATED:20171229T134250Z
LAST-MODIFIED:20171229T134322Z
UID:5269-1529020800-1534377599@fromthe3rdstoryproductions.co.uk
SUMMARY:MOTELx
DESCRIPTION:Horror festival in Portugal \nShare this:TweetShare on TumblrMoreRedditWhatsAppLike this:Like Loading...
URL:https://docs.google.com/forms/d/e/1FAIpQLSdmgGc_pqTA2cfEDnJlC7CyIzimdWI8aW0T9ETlhve0sbxzHw/viewform
LOCATION:Lisbon\, Lisbon\, Portugal
CATEGORIES:Deadline
END:VEVENT
BEGIN:VEVENT
DTSTART;VALUE=DATE:20180801
DTEND;VALUE=DATE:20180802
DTSTAMP:20260420T191446
CREATED:20180727T085838Z
LAST-MODIFIED:20180727T085838Z
UID:6144-1533081600-1533167999@fromthe3rdstoryproductions.co.uk
SUMMARY:Buenos Aires Rojo Sangre deadline
DESCRIPTION:devoted to the genres of HORROR\, science fiction and fantasy. \nShare this:TweetShare on TumblrMoreRedditWhatsAppLike this:Like Loading...
URL:https://fromthe3rdstoryproductions.co.uk/event/buenos-aires-rojo-sangre-deadline
LOCATION:Buenos Aires\, Argentina
CATEGORIES:Deadline
END:VEVENT
BEGIN:VEVENT
DTSTART;VALUE=DATE:20180801
DTEND;VALUE=DATE:20180802
DTSTAMP:20260420T191447
CREATED:20180727T083348Z
LAST-MODIFIED:20180727T084715Z
UID:6141-1533081600-1533167999@fromthe3rdstoryproductions.co.uk
SUMMARY:Kyiv International Film Festival Molodist Earlybird deadline
DESCRIPTION:BAFTA qualifying shorts festival in the Ukraine \nShare this:TweetShare on TumblrMoreRedditWhatsAppLike this:Like Loading...
URL:https://fromthe3rdstoryproductions.co.uk/event/kyiv-international-film-festival-molodist-earlybird-deadline
LOCATION:Kiev\, Ukraine
CATEGORIES:Deadline
END:VEVENT
BEGIN:VEVENT
DTSTART;VALUE=DATE:20180801
DTEND;VALUE=DATE:20180802
DTSTAMP:20260420T191447
CREATED:20180727T082627Z
LAST-MODIFIED:20180727T083055Z
UID:6139-1533081600-1533167999@fromthe3rdstoryproductions.co.uk
SUMMARY:Leuven International Short Film Festival Regular Deadline
DESCRIPTION:Oscar Qualifying short film festival in Belgium \nShare this:TweetShare on TumblrMoreRedditWhatsAppLike this:Like Loading...
URL:https://fromthe3rdstoryproductions.co.uk/event/leuven-international-short-film-festival-regular-deadline
LOCATION:Leuven\, Leuven\, Belgium
CATEGORIES:Deadline
END:VEVENT
BEGIN:VEVENT
DTSTART;VALUE=DATE:20180801
DTEND;VALUE=DATE:20180812
DTSTAMP:20260420T191447
CREATED:20171221T182555Z
LAST-MODIFIED:20171221T183244Z
UID:5198-1533081600-1534031999@fromthe3rdstoryproductions.co.uk
SUMMARY:Locarno Film Festival
DESCRIPTION:Share this:TweetShare on TumblrMoreRedditWhatsAppLike this:Like Loading...
URL:https://fromthe3rdstoryproductions.co.uk/event/locarno-film-festival
LOCATION:CA
CATEGORIES:Festival
END:VEVENT
END:VCALENDAR