BEGIN:VCALENDAR
VERSION:2.0
PRODID:-//From The 3rd Story Productions ltd. - ECPv6.15.13.1//NONSGML v1.0//EN
CALSCALE:GREGORIAN
METHOD:PUBLISH
X-WR-CALNAME:From The 3rd Story Productions ltd.
X-ORIGINAL-URL:https://fromthe3rdstoryproductions.co.uk
X-WR-CALDESC:Events for From The 3rd Story Productions ltd.
REFRESH-INTERVAL;VALUE=DURATION:PT1H
X-Robots-Tag:noindex
X-PUBLISHED-TTL:PT1H
BEGIN:VTIMEZONE
TZID:Europe/Vienna
BEGIN:DAYLIGHT
TZOFFSETFROM:+0100
TZOFFSETTO:+0200
TZNAME:CEST
DTSTART:20170326T010000
END:DAYLIGHT
BEGIN:STANDARD
TZOFFSETFROM:+0200
TZOFFSETTO:+0100
TZNAME:CET
DTSTART:20171029T010000
END:STANDARD
BEGIN:DAYLIGHT
TZOFFSETFROM:+0100
TZOFFSETTO:+0200
TZNAME:CEST
DTSTART:20180325T010000
END:DAYLIGHT
BEGIN:STANDARD
TZOFFSETFROM:+0200
TZOFFSETTO:+0100
TZNAME:CET
DTSTART:20181028T010000
END:STANDARD
BEGIN:DAYLIGHT
TZOFFSETFROM:+0100
TZOFFSETTO:+0200
TZNAME:CEST
DTSTART:20190331T010000
END:DAYLIGHT
BEGIN:STANDARD
TZOFFSETFROM:+0200
TZOFFSETTO:+0100
TZNAME:CET
DTSTART:20191027T010000
END:STANDARD
END:VTIMEZONE
BEGIN:VEVENT
DTSTART;VALUE=DATE:20180529
DTEND;VALUE=DATE:20180605
DTSTAMP:20260421T051413
CREATED:20180117T105454Z
LAST-MODIFIED:20180117T105613Z
UID:5395-1527552000-1528156799@fromthe3rdstoryproductions.co.uk
SUMMARY:Vienna Shorts
DESCRIPTION:Share this:TweetShare on TumblrMoreRedditWhatsAppLike this:Like Loading...
URL:https://fromthe3rdstoryproductions.co.uk/event/vienna-shorts
LOCATION:Vienna\, Vienna\, Austria
CATEGORIES:Festival
END:VEVENT
END:VCALENDAR