BEGIN:VCALENDAR
VERSION:2.0
PRODID:-//From The 3rd Story Productions ltd. - ECPv6.15.13.1//NONSGML v1.0//EN
CALSCALE:GREGORIAN
METHOD:PUBLISH
X-ORIGINAL-URL:https://fromthe3rdstoryproductions.co.uk
X-WR-CALDESC:Events for From The 3rd Story Productions ltd.
REFRESH-INTERVAL;VALUE=DURATION:PT1H
X-Robots-Tag:noindex
X-PUBLISHED-TTL:PT1H
BEGIN:VTIMEZONE
TZID:Europe/Riga
BEGIN:DAYLIGHT
TZOFFSETFROM:+0200
TZOFFSETTO:+0300
TZNAME:EEST
DTSTART:20170326T010000
END:DAYLIGHT
BEGIN:STANDARD
TZOFFSETFROM:+0300
TZOFFSETTO:+0200
TZNAME:EET
DTSTART:20171029T010000
END:STANDARD
BEGIN:DAYLIGHT
TZOFFSETFROM:+0200
TZOFFSETTO:+0300
TZNAME:EEST
DTSTART:20180325T010000
END:DAYLIGHT
BEGIN:STANDARD
TZOFFSETFROM:+0300
TZOFFSETTO:+0200
TZNAME:EET
DTSTART:20181028T010000
END:STANDARD
BEGIN:DAYLIGHT
TZOFFSETFROM:+0200
TZOFFSETTO:+0300
TZNAME:EEST
DTSTART:20190331T010000
END:DAYLIGHT
BEGIN:STANDARD
TZOFFSETFROM:+0300
TZOFFSETTO:+0200
TZNAME:EET
DTSTART:20191027T010000
END:STANDARD
END:VTIMEZONE
BEGIN:VTIMEZONE
TZID:Europe/London
BEGIN:DAYLIGHT
TZOFFSETFROM:+0000
TZOFFSETTO:+0100
TZNAME:BST
DTSTART:20170326T010000
END:DAYLIGHT
BEGIN:STANDARD
TZOFFSETFROM:+0100
TZOFFSETTO:+0000
TZNAME:GMT
DTSTART:20171029T010000
END:STANDARD
BEGIN:DAYLIGHT
TZOFFSETFROM:+0000
TZOFFSETTO:+0100
TZNAME:BST
DTSTART:20180325T010000
END:DAYLIGHT
BEGIN:STANDARD
TZOFFSETFROM:+0100
TZOFFSETTO:+0000
TZNAME:GMT
DTSTART:20181028T010000
END:STANDARD
BEGIN:DAYLIGHT
TZOFFSETFROM:+0000
TZOFFSETTO:+0100
TZNAME:BST
DTSTART:20190331T010000
END:DAYLIGHT
BEGIN:STANDARD
TZOFFSETFROM:+0100
TZOFFSETTO:+0000
TZNAME:GMT
DTSTART:20191027T010000
END:STANDARD
END:VTIMEZONE
BEGIN:VEVENT
DTSTART;VALUE=DATE:20180427
DTEND;VALUE=DATE:20180430
DTSTAMP:20260421T001207
CREATED:20171221T173411Z
LAST-MODIFIED:20171221T173411Z
UID:5191-1524787200-1525046399@fromthe3rdstoryproductions.co.uk
SUMMARY:Haapsalu Õudus- ja Fantaasiafilmide Festival
DESCRIPTION:Share this:TweetShare on TumblrMoreRedditWhatsAppLike this:Like Loading...
URL:https://fromthe3rdstoryproductions.co.uk/event/haapsalu-oudus-ja-fantaasiafilmide-festival
LOCATION:CA
CATEGORIES:Festival
END:VEVENT
BEGIN:VEVENT
DTSTART;VALUE=DATE:20180427
DTEND;VALUE=DATE:20180428
DTSTAMP:20260421T001207
CREATED:20171202T163649Z
LAST-MODIFIED:20171202T164150Z
UID:5056-1524787200-1524873599@fromthe3rdstoryproductions.co.uk
SUMMARY:Raindance Film Festival
DESCRIPTION:EarlyBird Deadline \nShare this:TweetShare on TumblrMoreRedditWhatsAppLike this:Like Loading...
URL:https://fromthe3rdstoryproductions.co.uk/event/raindance-film-festival-earlybird-deadline
LOCATION:London\, London\, United Kingdom
CATEGORIES:Deadline
END:VEVENT
END:VCALENDAR