BEGIN:VCALENDAR
VERSION:2.0
PRODID:-//From The 3rd Story Productions ltd. - ECPv6.15.13.1//NONSGML v1.0//EN
CALSCALE:GREGORIAN
METHOD:PUBLISH
X-WR-CALNAME:From The 3rd Story Productions ltd.
X-ORIGINAL-URL:https://fromthe3rdstoryproductions.co.uk
X-WR-CALDESC:Events for From The 3rd Story Productions ltd.
REFRESH-INTERVAL;VALUE=DURATION:PT1H
X-Robots-Tag:noindex
X-PUBLISHED-TTL:PT1H
BEGIN:VTIMEZONE
TZID:Europe/London
BEGIN:DAYLIGHT
TZOFFSETFROM:+0000
TZOFFSETTO:+0100
TZNAME:BST
DTSTART:20170326T010000
END:DAYLIGHT
BEGIN:STANDARD
TZOFFSETFROM:+0100
TZOFFSETTO:+0000
TZNAME:GMT
DTSTART:20171029T010000
END:STANDARD
BEGIN:DAYLIGHT
TZOFFSETFROM:+0000
TZOFFSETTO:+0100
TZNAME:BST
DTSTART:20180325T010000
END:DAYLIGHT
BEGIN:STANDARD
TZOFFSETFROM:+0100
TZOFFSETTO:+0000
TZNAME:GMT
DTSTART:20181028T010000
END:STANDARD
BEGIN:DAYLIGHT
TZOFFSETFROM:+0000
TZOFFSETTO:+0100
TZNAME:BST
DTSTART:20190331T010000
END:DAYLIGHT
BEGIN:STANDARD
TZOFFSETFROM:+0100
TZOFFSETTO:+0000
TZNAME:GMT
DTSTART:20191027T010000
END:STANDARD
END:VTIMEZONE
BEGIN:VEVENT
DTSTART;TZID=Europe/London:20180421T080000
DTEND;TZID=Europe/London:20180421T170000
DTSTAMP:20260421T001124
CREATED:20180421T061545Z
LAST-MODIFIED:20180421T063010Z
UID:5883-1524297600-1524330000@fromthe3rdstoryproductions.co.uk
SUMMARY:The Sapporo International Short Film Festival Late Deadline
DESCRIPTION:The Sapporo International Short Film Festival is an annual event in Japan \nShare this:TweetShare on TumblrMoreRedditWhatsAppLike this:Like Loading...
URL:https://fromthe3rdstoryproductions.co.uk/event/the-sapporo-international-short-film-festival
LOCATION:Sapporo\, Sapporo\, Hokkaido\, Japan
CATEGORIES:Deadline
END:VEVENT
END:VCALENDAR