BEGIN:VCALENDAR
VERSION:2.0
PRODID:-//From The 3rd Story Productions ltd. - ECPv6.15.13.1//NONSGML v1.0//EN
CALSCALE:GREGORIAN
METHOD:PUBLISH
X-WR-CALNAME:From The 3rd Story Productions ltd.
X-ORIGINAL-URL:https://fromthe3rdstoryproductions.co.uk
X-WR-CALDESC:Events for From The 3rd Story Productions ltd.
REFRESH-INTERVAL;VALUE=DURATION:PT1H
X-Robots-Tag:noindex
X-PUBLISHED-TTL:PT1H
BEGIN:VTIMEZONE
TZID:America/Denver
BEGIN:DAYLIGHT
TZOFFSETFROM:-0700
TZOFFSETTO:-0600
TZNAME:MDT
DTSTART:20170312T090000
END:DAYLIGHT
BEGIN:STANDARD
TZOFFSETFROM:-0600
TZOFFSETTO:-0700
TZNAME:MST
DTSTART:20171105T080000
END:STANDARD
BEGIN:DAYLIGHT
TZOFFSETFROM:-0700
TZOFFSETTO:-0600
TZNAME:MDT
DTSTART:20180311T090000
END:DAYLIGHT
BEGIN:STANDARD
TZOFFSETFROM:-0600
TZOFFSETTO:-0700
TZNAME:MST
DTSTART:20181104T080000
END:STANDARD
BEGIN:DAYLIGHT
TZOFFSETFROM:-0700
TZOFFSETTO:-0600
TZNAME:MDT
DTSTART:20190310T090000
END:DAYLIGHT
BEGIN:STANDARD
TZOFFSETFROM:-0600
TZOFFSETTO:-0700
TZNAME:MST
DTSTART:20191103T080000
END:STANDARD
END:VTIMEZONE
BEGIN:VEVENT
DTSTART;VALUE=DATE:20180102
DTEND;VALUE=DATE:20180103
DTSTAMP:20260420T120100
CREATED:20180101T150822Z
LAST-MODIFIED:20180101T150905Z
UID:5016-1514851200-1514937599@fromthe3rdstoryproductions.co.uk
SUMMARY:Aspen Aspen ShortFest
DESCRIPTION:WithoutABox Extended Deadline \nShare this:TweetShare on TumblrMoreRedditWhatsAppLike this:Like Loading...
URL:https://fromthe3rdstoryproductions.co.uk/event/aspen-aspen-shortfest
LOCATION:Aspen\, Aspen\, CO\, United States
CATEGORIES:Deadline
END:VEVENT
END:VCALENDAR